BEGIN:VCALENDAR
VERSION:2.0
PRODID:-//East Bay SPCA - ECPv6.14.2//NONSGML v1.0//EN
CALSCALE:GREGORIAN
METHOD:PUBLISH
X-WR-CALNAME:East Bay SPCA
X-ORIGINAL-URL:https://eastbayspca.org
X-WR-CALDESC:Events for East Bay SPCA
REFRESH-INTERVAL;VALUE=DURATION:PT1H
X-Robots-Tag:noindex
X-PUBLISHED-TTL:PT1H
BEGIN:VTIMEZONE
TZID:America/Los_Angeles
BEGIN:DAYLIGHT
TZOFFSETFROM:-0800
TZOFFSETTO:-0700
TZNAME:PDT
DTSTART:20250309T100000
END:DAYLIGHT
BEGIN:STANDARD
TZOFFSETFROM:-0700
TZOFFSETTO:-0800
TZNAME:PST
DTSTART:20251102T090000
END:STANDARD
END:VTIMEZONE
BEGIN:VEVENT
DTSTART;TZID=America/Los_Angeles:20250906T163000
DTEND;TZID=America/Los_Angeles:20250906T190000
DTSTAMP:20260422T050603
CREATED:20250815T000755Z
LAST-MODIFIED:20250815T000755Z
UID:10000169-1757176200-1757185200@eastbayspca.org
SUMMARY:Oakland Ballers Fan Appreciation Night – Saturday\, September 6! 🎉⚾
DESCRIPTION:
URL:https://eastbayspca.org/about/events/oakland-ballers-fan-appreciation-night-saturday-september-6-%f0%9f%8e%89%e2%9a%be
LOCATION:Raimondi Park\, 1689 20th Street\, Oakland\, CA\, 94607\, United States
END:VEVENT
END:VCALENDAR